BEGIN:VCALENDAR
VERSION:2.0
PRODID:-//Perkins Center Site - ECPv6.15.20//NONSGML v1.0//EN
CALSCALE:GREGORIAN
METHOD:PUBLISH
X-ORIGINAL-URL:https://perkinsarts.org
X-WR-CALDESC:Events for Perkins Center Site
REFRESH-INTERVAL;VALUE=DURATION:PT1H
X-Robots-Tag:noindex
X-PUBLISHED-TTL:PT1H
BEGIN:VTIMEZONE
TZID:America/New_York
BEGIN:DAYLIGHT
TZOFFSETFROM:-0500
TZOFFSETTO:-0400
TZNAME:EDT
DTSTART:20240310T070000
END:DAYLIGHT
BEGIN:STANDARD
TZOFFSETFROM:-0400
TZOFFSETTO:-0500
TZNAME:EST
DTSTART:20241103T060000
END:STANDARD
BEGIN:DAYLIGHT
TZOFFSETFROM:-0500
TZOFFSETTO:-0400
TZNAME:EDT
DTSTART:20250309T070000
END:DAYLIGHT
BEGIN:STANDARD
TZOFFSETFROM:-0400
TZOFFSETTO:-0500
TZNAME:EST
DTSTART:20251102T060000
END:STANDARD
BEGIN:DAYLIGHT
TZOFFSETFROM:-0500
TZOFFSETTO:-0400
TZNAME:EDT
DTSTART:20260308T070000
END:DAYLIGHT
BEGIN:STANDARD
TZOFFSETFROM:-0400
TZOFFSETTO:-0500
TZNAME:EST
DTSTART:20261101T060000
END:STANDARD
END:VTIMEZONE
BEGIN:VEVENT
DTSTART;VALUE=DATE:20250501
DTEND;VALUE=DATE:20250628
DTSTAMP:20260419T093718
CREATED:20250428T185303Z
LAST-MODIFIED:20250428T185303Z
UID:12603-1746057600-1751068799@perkinsarts.org
SUMMARY:Society of New Jersey Artists - Moorestown - May/Jun 2025
DESCRIPTION:Society of New Jersey Artists – Moorestown – May/Jun 2025\nJoin us for the Artist’s Reception: \nDate: Saturday\, May 17\, 2025\n \nTime: 5:00 PM – 8:00 PM \nLocation: Perkins Center for the Arts\, 395 Kings Highway\, Moorestown\, NJ 08057 \nExhibition Dates: May 5\, 2025 – Jun 27\, 2025
URL:https://perkinsarts.org/event/society-of-new-jersey-artists-moorestown-may-jun-2025/
LOCATION:Perkins Center for the Arts – Moorestown\, 395 Kings Highway\, Moorestown\, NJ\, 08057\, United States
CATEGORIES:Events,Exhibitions,Moorestown
ATTACH;FMTTYPE=image/png:https://perkinsarts.org/wp-content/uploads/2025/04/16.png
END:VEVENT
END:VCALENDAR